BEGIN:VCALENDAR
VERSION:2.0
PRODID:icalendar-ruby
CALSCALE:GREGORIAN
METHOD:PUBLISH
BEGIN:VEVENT
DTSTAMP:20260420T103922Z
UID:163-1097527@meadowbrooke.org
DTSTART:20260622T233000Z
DTEND:20260627T023000Z
CLASS:PUBLIC
CREATED:20260414T120723
DESCRIPTION:Journey through Ireland in Emerald Crossing\, where Psalm 23 co
 mes to life! Kids will explore God as Shepherd\, Guide\, Comforter\, Provi
 der\, and King through David’s story\, hands-on activities\, and apologe
 tics. \n\nFrom Donegal’s green pastures to Dublin’s Viking history\, 
 each day reveals how God leads\, protects\, and provides. Join the adventu
 re!\nMonday\, June 22 - Friday\, June 26 \n5:30pm - 8:30pm\nIf you are in
 terested in volunteering you can sign up using the registration link.
LAST-MODIFIED:20260414T120723
LOCATION:
SUMMARY:Emerald Crossing - VBS 2026
URL;VALUE=URI:https://meadowbrooke.org/events/emerald-crossing-vbs-2026/202
 6-06-22
ATTACH;FILENAME=VBS.png;FMTTYPE=image/png:https://dq5pwpg1q8ru0.cloudfront.
 net/2026/04/10/19/16/12/00e4659a-f686-4852-b306-7536bd7d525f/VBS.png
END:VEVENT
END:VCALENDAR
